BEGIN:VCALENDAR
VERSION:2.0
PRODID:-//wp-events-plugin.com//7.2.3.1//EN
TZID:America/Toronto
X-WR-TIMEZONE:America/Toronto
BEGIN:VEVENT
UID:455@westquebecers.ca
DTSTART;TZID=America/Toronto:20260321T180000
DTEND;TZID=America/Toronto:20260321T190000
DTSTAMP:20260216T210113Z
URL:https://westquebecers.ca/events/auto-draft-4/
SUMMARY:Quiz Night
DESCRIPTION:Put your trivia skills to the test at our Quiz Night! Join us o
 n Saturday\, March 21st at 6:00 PM at the British Pub for an evening of fu
 n\, friendly competition\, and great company. Gather your friends and comp
 ete in teams or play solo as you tackle a variety of engaging questions ac
 ross different categories.\n\nCome early\, grab a drink\, and get ready fo
 r a lively night of trivia and prizes—everyone is welcome! Get your tick
 ets here.
ATTACH;FMTTYPE=image/jpeg:https://westquebecers.ca/wp-content/uploads/2026
 /02/Playfull-Neon-Minimalist-Trivia-Night-Flyer-3.png
CATEGORIES:RAWQ Events
LOCATION:The British Hotel\, 71 rue principale\, Gatineau\, Quebec\, J9H 3L
 6\, Canada
X-APPLE-STRUCTURED-LOCATION;VALUE=URI;X-ADDRESS=71 rue principale\, Gatinea
 u\, Quebec\, J9H 3L6\, Canada;X-APPLE-RADIUS=100;X-TITLE=The British Hotel
 :geo:0,0
END:VEVENT
BEGIN:VTIMEZONE
TZID:America/Toronto
X-LIC-LOCATION:America/Toronto
BEGIN:DAYLIGHT
DTSTART:20260308T030000
TZOFFSETFROM:-0500
TZOFFSETTO:-0400
TZNAME:EDT
END:DAYLIGHT
END:VTIMEZONE
END:VCALENDAR